BEGIN:VCALENDAR
VERSION:2.0
PRODID:-//FCOC RV - ECPv6.15.20//NONSGML v1.0//EN
CALSCALE:GREGORIAN
METHOD:PUBLISH
X-WR-CALNAME:FCOC RV
X-ORIGINAL-URL:https://www.fcocrv.org
X-WR-CALDESC:Events for FCOC RV
REFRESH-INTERVAL;VALUE=DURATION:PT1H
X-Robots-Tag:noindex
X-PUBLISHED-TTL:PT1H
BEGIN:VTIMEZONE
TZID:America/Phoenix
BEGIN:STANDARD
TZOFFSETFROM:-0700
TZOFFSETTO:-0700
TZNAME:MST
DTSTART:20250101T000000
END:STANDARD
END:VTIMEZONE
BEGIN:VTIMEZONE
TZID:America/Halifax
BEGIN:DAYLIGHT
TZOFFSETFROM:-0400
TZOFFSETTO:-0300
TZNAME:ADT
DTSTART:20250309T060000
END:DAYLIGHT
BEGIN:STANDARD
TZOFFSETFROM:-0300
TZOFFSETTO:-0400
TZNAME:AST
DTSTART:20251102T050000
END:STANDARD
BEGIN:DAYLIGHT
TZOFFSETFROM:-0400
TZOFFSETTO:-0300
TZNAME:ADT
DTSTART:20260308T060000
END:DAYLIGHT
BEGIN:STANDARD
TZOFFSETFROM:-0300
TZOFFSETTO:-0400
TZNAME:AST
DTSTART:20261101T050000
END:STANDARD
BEGIN:DAYLIGHT
TZOFFSETFROM:-0400
TZOFFSETTO:-0300
TZNAME:ADT
DTSTART:20270314T060000
END:DAYLIGHT
BEGIN:STANDARD
TZOFFSETFROM:-0300
TZOFFSETTO:-0400
TZNAME:AST
DTSTART:20271107T050000
END:STANDARD
END:VTIMEZONE
BEGIN:VEVENT
DTSTART;VALUE=DATE:20260928
DTEND;VALUE=DATE:20261003
DTSTAMP:20260421T103753
CREATED:20260130T002826Z
LAST-MODIFIED:20260131T221943Z
UID:7436-1790553600-1790985599@www.fcocrv.org
SUMMARY:St. George Utah Fall Event Sept 28 - Oct 2\, 2026
DESCRIPTION:[vc_row][vc_column][vc_column_text css=””]St. George\, Utah 2026 Fall Event \nMark your calendar for a fall event out west in beautiful southern Utah that will be held\nSept 28-Oct 2. There will also be an optional at extra cost Camp Freightliner course\noffered Sept 26 & 27\nSt George is located in the southwest corner of Utah very close to Zion National Park\nand surrounded by the beauty of the red rock formations in the area.\nWe will be staying at the premier full service McArthur Temple View RV Resort in St.\nGeorge.\nWe are still in the planning stages for the event and can say that there will be a mix of\neducation\, food\, and entertainment that we always bring to our events\nPattee & Chris Perez will be the hosts\nSteve & Kim Batorson will be the assistant hosts\nMore information to come in the near future. Stay tuned to our website for updates in[/vc_column_text][/vc_column][/vc_row]
URL:https://www.fcocrv.org/event/st-george-utah-fall-event-sept-28-oct-2-2026/
LOCATION:IA
CATEGORIES:Events
ORGANIZER;CN="Steve & Kim Batorson":MAILTO:batorson@gmail.com
END:VEVENT
BEGIN:VEVENT
DTSTART;VALUE=DATE:20261104
DTEND;VALUE=DATE:20261111
DTSTAMP:20260421T103753
CREATED:20260130T004156Z
LAST-MODIFIED:20260210T163209Z
UID:7440-1793750400-1794355199@www.fcocrv.org
SUMMARY:Branson Fall Event Nov 4 - Nov 10\, 2026
DESCRIPTION:[vc_row][vc_column][vc_column_text css=””] \nKick off the 2026 Christmas Season by joining us in Branson Missouri for an exciting six night event. Check in will be on November 4\, 2026 with departure on November 10. \n.     The event includes three dinners with two being dinner shows\, three lunches including one at College of the Ozarks\, a complete day at world famous Silver Dollar City where you can enjoy the shows\, decorations and 6+ million lights\, a show at the amazing Sight and Sound Theater\, as well as plenty of free time to explore the area. . \n      This will be a fun filled once in a lifetime event\, and will be limited to twenty coaches. More details and sign up information will be forthcoming. The event is being hosted by Denise Jeanneret. For more information call Denise at 785-220-8674. \nRegistration is now open \n[/vc_column_text][/vc_column][/vc_row][vc_row][vc_column]\n\n                \n                        \n							"*" indicates required fields \n                        \n                        FCOC Membership Number*Pilot Name*\n                            \n                            \n                                                    \n                                                    First\n                                                \n                            \n                            \n                                                    \n                                                    Last\n                                                \n                            \n                        Nickname for BadgePilot/Co-Pilot*PilotCo-PilotCo-Pilot Name\n                            \n                            \n                                                    \n                                                    First\n                                                \n                            \n                            \n                                                    \n                                                    Last\n                                                \n                            \n                        Nickname for BadgePilot/Co-PilotCo-PilotPilotAdditional attendees\, if so give name(s) and age(s)Address*    \n                    \n                         \n                                        \n                                        Street Address\n                                    \n                                        \n                                        Address Line 2\n                                    \n                                    \n                                    City\n                                 \n                                        \n                                        State / Province / Region\n                                      \n                                    \n                                    ZIP / Postal Code\n                                \n                                        AfghanistanAlbaniaAlgeriaAmerican SamoaAndorraAngolaAnguillaAntarcticaAntigua and BarbudaArgentinaArmeniaArubaAustraliaAustriaAzerbaijanBahamasBahrainBangladeshBarbadosBelarusBelgiumBelizeBeninBermudaBhutanBoliviaBonaire\, Sint Eustatius and SabaBosnia and HerzegovinaBotswanaBouvet IslandBrazilBritish Indian Ocean TerritoryBrunei DarussalamBulgariaBurkina FasoBurundiCabo VerdeCambodiaCameroonCanadaCayman IslandsCentral African RepublicChadChileChinaChristmas IslandCocos IslandsColombiaComorosCongoCongo\, Democratic Republic of theCook IslandsCosta RicaCroatiaCubaCuraçaoCyprusCzechiaCôte d'IvoireDenmarkDjiboutiDominicaDominican RepublicEcuadorEgyptEl SalvadorEquatorial GuineaEritreaEstoniaEswatiniEthiopiaFalkland IslandsFaroe IslandsFijiFinlandFranceFrench GuianaFrench PolynesiaFrench Southern TerritoriesGabonGambiaGeorgiaGermanyGhanaGibraltarGreeceGreenlandGrenadaGuadeloupeGuamGuatemalaGuernseyGuineaGuinea-BissauGuyanaHaitiHeard Island and McDonald IslandsHoly SeeHondurasHong KongHungaryIcelandIndiaIndonesiaIranIraqIrelandIsle of ManIsraelItalyJamaicaJapanJerseyJordanKazakhstanKenyaKiribatiKorea\, Democratic People's Republic ofKorea\, Republic ofKuwaitKyrgyzstanLao People's Democratic RepublicLatviaLebanonLesothoLiberiaLibyaLiechtensteinLithuaniaLuxembourgMacaoMadagascarMalawiMalaysiaMaldivesMaliMaltaMarshall IslandsMartiniqueMauritaniaMauritiusMayotteMexicoMicronesiaMoldovaMonacoMongoliaMontenegroMontserratMoroccoMozambiqueMyanmarNamibiaNauruNepalNetherlandsNew CaledoniaNew ZealandNicaraguaNigerNigeriaNiueNorfolk IslandNorth MacedoniaNorthern Mariana IslandsNorwayOmanPakistanPalauPalestine\, State ofPanamaPapua New GuineaParaguayPeruPhilippinesPitcairnPolandPortugalPuerto RicoQatarRomaniaRussian FederationRwandaRéunionSaint BarthélemySaint Helena\, Ascension and Tristan da CunhaSaint Kitts and NevisSaint LuciaSaint MartinSaint Pierre and MiquelonSaint Vincent and the GrenadinesSamoaSan MarinoSao Tome and PrincipeSaudi ArabiaSenegalSerbiaSeychellesSierra LeoneSingaporeSint MaartenSlovakiaSloveniaSolomon IslandsSomaliaSouth AfricaSouth Georgia and the South Sandwich IslandsSouth SudanSpainSri LankaSudanSurinameSvalbard and Jan MayenSwedenSwitzerlandSyria Arab RepublicTaiwanTajikistanTanzania\, the United Republic ofThailandTimor-LesteTogoTokelauTongaTrinidad and TobagoTunisiaTurkmenistanTurks and Caicos IslandsTuvaluTürkiyeUS Minor Outlying IslandsUgandaUkraineUnited Arab EmiratesUnited KingdomUnited StatesUruguayUzbekistanVanuatuVenezuelaViet NamVirgin Islands\, BritishVirgin Islands\, U.S.Wallis and FutunaWestern SaharaYemenZambiaZimbabweÅland Islands\n                                        Country\n                                    \n                    \n                Primary Phone #*Cell Phone #Email Address*\n                            \n                        Ok to share your email with other attendees?*Please indicate if you are ok having your email address shared with others who are in attendance at this event.\n			\n					\n					Yes\, Share my email\n			\n			\n					\n					No. Don't share my email\n			Handicap Parking?*Do you require handicap parking?\n			\n					\n					Yes\n			\n			\n					\n					No\n			First time at an FCOC event?*Is this your first time attending an FCOC event?\n			\n					\n					Yes\n			\n			\n					\n					No\n			Would you like to volunteer to help with the event?*This is great fun and you meet great people!\n			\n					\n					Yes\n			\n			\n					\n					No\n			Special EventsDo you have any special events during this event\, e.g. birthdays or anniversary?Coach Manufacturer*Coach Model*Coach Length*Event Registration*Select your registration fee based on the number of people in your coach and membership status. Coach 2 Members ($1275.00)Coach Single Member ($900.00)Coach 2 Non-Member ($1275.00)Coach Single Non-Member ($900.00)Additional Attendees QuantityAdditional charge of $400.00 for each extra person  in the coach . This is a hidden field used for pricing calculations.\n					\n					\n						Price:\n						$400.00\n					\n					\n					 Quantity \n				Event Policies*Please read and review our standard policies for Cancellation\, Dietary Requests\, and Event Fees.\nStandard Policies\n								\n								I acknowledge that I have read and understand standard event policies\n							Event Policies*Please read and review our standard policies for Cancellation\, Dietary Requests\, and Event Fees.\nStandard Policies\n								\n								I acknowledge that I have read and understand standard event policies\n							Waiver of Liability & Indemnity Agreement*Please review the club's standard Waiver of Liability & Indemnity Agreement here\n								\n								I acknowledge that I have read and understand the Waiver of Liability & Indemnity Agreement\n							Covid*I/We understand there is an inherent risk to COVID-19 exposure in any public location where people are present.  By attending any FCOC function\, I/We voluntarily assume all risks related to COVID-19.\n								\n								I acknowledge the risks stated above.\n							 Event Organizer Contact Information\n \n\n\n\n&nbsp&nbsp&nbsp\nDenise Jeanneret\n&nbsp&nbsp&nbsp\nsjjeanneret@gmail.com\n\n&nbsp&nbsp&nbsp\n  \n \n&nbsp&nbsp&nbsp\n\n&nbsp&nbsp&nbsp\n  \n\nTotal\n							\n						Credit Card*\n                                    American ExpressDiscoverMasterCardVisaSupported Credit Cards: American Express\, Discover\, MasterCard\, Visa\n                                    \n                                    Card Number\n                                 \n                                            \n                                            Expiration Date\n                                                \n                                                   \n                                                       Month\n                                                       \n                                                           Month010203040506070809101112\n                                                       \n                                                   \n                                                   \n                                                       Year\n                                                       \n                                                           Year20262027202820292030203120322033203420352036203720382039204020412042204320442045\n                                                       \n                                                   \n                                                \n                                            \n                                                \n                                                 \n                                                Security Code\n                                             \n                                        \n                                            \n                                            Cardholder Name\n                                         This field is hidden when viewing the formRM-EmailEvent Organizer Email Address (hidden field for use in registration notification emails)\n                            \n                        \n          \n            \n            \n            \n            \n            \n            \n            \n            \n            \n            \n            \n            \n            \n        \n                        \n                        \n[/vc_column][/vc_row]
URL:https://www.fcocrv.org/event/branson-fall-event-nov-4-nov-10-2026/
LOCATION:IA
CATEGORIES:Events
ORGANIZER;CN="Steve & Denise Jeanerette":MAILTO:sjjeanneret@gmail.com
END:VEVENT
END:VCALENDAR